BEGIN:VCALENDAR
PRODID:-//eluceo/ical//2.0/EN
VERSION:2.0
CALSCALE:GREGORIAN
BEGIN:VEVENT
UID:hey.bayern.695033.6557426
DTSTAMP:20260426T021913Z
SUMMARY:Altstadt Märchenzeit: Zirkus Ufftata
DTSTART;TZID=Europe/Berlin:20260703T160000
DTEND;TZID=Europe/Berlin:20260703T235900
LOCATION:Altstadt\, 4020 Linz\, Österreich
GEO:48.305118;14.284422
X-APPLE-STRUCTURED-LOCATION;VALUE=URI;X-ADDRESS=Altstadt\, 4020 Linz\, Öst
 erreich;X-APPLE-RADIUS=49;X-TITLE=:geo:48.305118,14.284422
URL;VALUE=URI:https://draft.hey.bayern/events/695033
END:VEVENT
END:VCALENDAR
