BEGIN:VCALENDAR
PRODID:-//eluceo/ical//2.0/EN
VERSION:2.0
CALSCALE:GREGORIAN
BEGIN:VEVENT
UID:hey.bayern.695014.6557321
DTSTAMP:20260426T041138Z
SUMMARY:Ausstellung Gerhard Wöß
DTSTART;TZID=Europe/Berlin:20260520T100000
DTEND;TZID=Europe/Berlin:20260520T130000
LOCATION:Hinterstadt 15\, 4840 Vöcklabruck\, Österreich
GEO:48.007859;13.646038
X-APPLE-STRUCTURED-LOCATION;VALUE=URI;X-ADDRESS=Hinterstadt 15\, 4840 Vöck
 labruck\, Österreich;X-APPLE-RADIUS=49;X-TITLE=:geo:48.007859,13.646038
URL;VALUE=URI:https://draft.hey.bayern/events/695014
END:VEVENT
END:VCALENDAR
