BEGIN:VCALENDAR
PRODID:-//eluceo/ical//2.0/EN
VERSION:2.0
CALSCALE:GREGORIAN
BEGIN:VEVENT
UID:hey.bayern.695008.6557283
DTSTAMP:20260425T010934Z
SUMMARY:After-Run-Party Rathausgasse Bludenz
DTSTART;TZID=Europe/Berlin:20260426T110000
DTEND;TZID=Europe/Berlin:20260427T110000
LOCATION:Rathausgasse\, 6700 Bludenz\, Österreich
GEO:47.156550;9.820056
X-APPLE-STRUCTURED-LOCATION;VALUE=URI;X-ADDRESS=Rathausgasse\, 6700 Bludenz
 \, Österreich;X-APPLE-RADIUS=49;X-TITLE=:geo:47.156550,9.820056
URL;VALUE=URI:https://draft.hey.bayern/events/695008
END:VEVENT
END:VCALENDAR
