BEGIN:VCALENDAR
PRODID:-//eluceo/ical//2.0/EN
VERSION:2.0
CALSCALE:GREGORIAN
BEGIN:VEVENT
UID:hey.bayern.695006.6557279
DTSTAMP:20260426T031249Z
SUMMARY:AK/ÖGB-Familienfest im Waldstadion
DTSTART;TZID=Europe/Berlin:20260613T110000
DTEND;TZID=Europe/Berlin:20260613T170000
LOCATION:Schulstraße 40\, 5412 Puch bei Hallein\, Österreich
GEO:47.714414;13.087664
X-APPLE-STRUCTURED-LOCATION;VALUE=URI;X-ADDRESS=Schulstraße 40\, 5412 Puch
  bei Hallein\, Österreich;X-APPLE-RADIUS=49;X-TITLE=:geo:47.714414,13.087
 664
URL;VALUE=URI:https://draft.hey.bayern/events/695006
END:VEVENT
END:VCALENDAR
