BEGIN:VCALENDAR
PRODID:-//eluceo/ical//2.0/EN
VERSION:2.0
CALSCALE:GREGORIAN
BEGIN:VEVENT
UID:hey.bayern.694989.6557241
DTSTAMP:20260424T030651Z
SUMMARY:Ausstellung „Tempest - Art Line Trio: Paul Jaeg\, Thomas Steiner\
 , Silvia Sun“
DTSTART;TZID=Europe/Berlin:20260516T150000
DTEND;TZID=Europe/Berlin:20260516T235900
LOCATION:Ascheter Straße 54\, 4600 Thalheim bei Wels\, Österreich
GEO:48.148456;14.019962
X-APPLE-STRUCTURED-LOCATION;VALUE=URI;X-ADDRESS=Ascheter Straße 54\, 4600 
 Thalheim bei Wels\, Österreich;X-APPLE-RADIUS=49;X-TITLE=:geo:48.148456,1
 4.019962
URL;VALUE=URI:https://draft.hey.bayern/events/694989
END:VEVENT
END:VCALENDAR
