BEGIN:VCALENDAR
PRODID:-//eluceo/ical//2.0/EN
VERSION:2.0
CALSCALE:GREGORIAN
BEGIN:VEVENT
UID:hey.bayern.694983.6557228
DTSTAMP:20260424T043322Z
SUMMARY:Angelika Niedetzky & Lisa Lena Tritscher: Dogs - OÖ Premiere
DTSTART;TZID=Europe/Berlin:20260429T193000
DTEND;TZID=Europe/Berlin:20260429T235900
LOCATION:Niedermayrweg 7\, 4040 Linz\, Österreich
GEO:48.331264;14.314700
X-APPLE-STRUCTURED-LOCATION;VALUE=URI;X-ADDRESS=Niedermayrweg 7\, 4040 Linz
 \, Österreich;X-APPLE-RADIUS=49;X-TITLE=:geo:48.331264,14.314700
URL;VALUE=URI:https://draft.hey.bayern/events/694983
END:VEVENT
END:VCALENDAR
