BEGIN:VCALENDAR
PRODID:-//eluceo/ical//2.0/EN
VERSION:2.0
CALSCALE:GREGORIAN
BEGIN:VEVENT
UID:hey.bayern.694979.6557212
DTSTAMP:20260424T030651Z
SUMMARY:Adventkonzert der St. Florianer Sängerknaben
DTSTART;TZID=Europe/Berlin:20261218T183000
DTEND;TZID=Europe/Berlin:20261218T235900
LOCATION:Gleinkerseestraße 13\, 4580 Windischgarsten\, Österreich
GEO:47.721059;14.323339
X-APPLE-STRUCTURED-LOCATION;VALUE=URI;X-ADDRESS=Gleinkerseestraße 13\, 458
 0 Windischgarsten\, Österreich;X-APPLE-RADIUS=49;X-TITLE=:geo:47.721059,1
 4.323339
URL;VALUE=URI:https://draft.hey.bayern/events/694979
END:VEVENT
END:VCALENDAR
