BEGIN:VCALENDAR
PRODID:-//eluceo/ical//2.0/EN
VERSION:2.0
CALSCALE:GREGORIAN
BEGIN:VEVENT
UID:hey.bayern.694972.6557184
DTSTAMP:20260424T093657Z
SUMMARY:26. Goiserer Marktmeisterschaft im Armbrustschießen
DTSTART;TZID=Europe/Berlin:20260513T000000
DTEND;TZID=Europe/Berlin:20260514T000000
LOCATION:Dr. Löckerstraße 46\, 4822 Bad Goisern am Hallstättersee\, Öst
 erreich
GEO:47.649648;13.609345
X-APPLE-STRUCTURED-LOCATION;VALUE=URI;X-ADDRESS=Dr. Löckerstraße 46\, 482
 2 Bad Goisern am Hallstättersee\, Österreich;X-APPLE-RADIUS=49;X-TITLE=:
 geo:47.649648,13.609345
URL;VALUE=URI:https://draft.hey.bayern/events/694972
END:VEVENT
END:VCALENDAR
