BEGIN:VCALENDAR
PRODID:-//eluceo/ical//2.0/EN
VERSION:2.0
CALSCALE:GREGORIAN
BEGIN:VEVENT
UID:hey.bayern.694969.6557171
DTSTAMP:20260424T053824Z
SUMMARY:17. Philatelietag in Frankenburg
DTSTART;TZID=Europe/Berlin:20260428T090000
DTEND;TZID=Europe/Berlin:20260428T113000
LOCATION:Marktplatz 19\, 4873 Frankenburg am Hausruck\, Österreich
GEO:48.067544;13.491228
X-APPLE-STRUCTURED-LOCATION;VALUE=URI;X-ADDRESS=Marktplatz 19\, 4873 Franke
 nburg am Hausruck\, Österreich;X-APPLE-RADIUS=49;X-TITLE=:geo:48.067544,1
 3.491228
URL;VALUE=URI:https://draft.hey.bayern/events/694969
END:VEVENT
END:VCALENDAR
