BEGIN:VCALENDAR
PRODID:-//eluceo/ical//2.0/EN
VERSION:2.0
CALSCALE:GREGORIAN
BEGIN:VEVENT
UID:hey.bayern.694968.6557169
DTSTAMP:20260424T161818Z
SUMMARY:1. Maibock-Anstich
DTSTART;TZID=Europe/Berlin:20260424T170000
DTEND;TZID=Europe/Berlin:20260424T235900
LOCATION:6334 Schwoich\, Österreich
URL;VALUE=URI:https://draft.hey.bayern/events/694968
END:VEVENT
END:VCALENDAR
