BEGIN:VCALENDAR
PRODID:-//eluceo/ical//2.0/EN
VERSION:2.0
CALSCALE:GREGORIAN
BEGIN:VEVENT
UID:hey.bayern.694966.6557153
DTSTAMP:20260424T113128Z
SUMMARY:Öffentliche Bürgerversammlung der Marktgemeinde Tamsweg
DTSTART;TZID=Europe/Berlin:20261022T190000
DTEND;TZID=Europe/Berlin:20261022T235959
LOCATION:Marktplatz 1\, 5580 Tamsweg\, Österreich
URL;VALUE=URI:https://draft.hey.bayern/events/694966
END:VEVENT
END:VCALENDAR
