BEGIN:VCALENDAR
PRODID:-//eluceo/ical//2.0/EN
VERSION:2.0
CALSCALE:GREGORIAN
BEGIN:VEVENT
UID:hey.bayern.694951.6557013
DTSTAMP:20260423T013050Z
SUMMARY:Theatergruppe Bad Leonfelden - "Skandal im Doktorhaus"
DTSTART;TZID=Europe/Berlin:20260524T200000
DTEND;TZID=Europe/Berlin:20260524T235900
LOCATION:Ringstraße 75\, 4190 Bad Leonfelden\, Österreich
GEO:48.522625;14.291318
X-APPLE-STRUCTURED-LOCATION;VALUE=URI;X-ADDRESS=Ringstraße 75\, 4190 Bad L
 eonfelden\, Österreich;X-APPLE-RADIUS=49;X-TITLE=:geo:48.522625,14.291318
URL;VALUE=URI:https://draft.hey.bayern/events/694951
END:VEVENT
END:VCALENDAR
