BEGIN:VCALENDAR
PRODID:-//eluceo/ical//2.0/EN
VERSION:2.0
CALSCALE:GREGORIAN
BEGIN:VEVENT
UID:hey.bayern.694946.6556995
DTSTAMP:20260423T013049Z
SUMMARY:TAI CHI im Wald in Bad Leonfelden
DTSTART;TZID=Europe/Berlin:20260615T090000
DTEND;TZID=Europe/Berlin:20260615T103000
LOCATION:4190 Bad Leonfelden\, Österreich
GEO:48.511530;14.295230
X-APPLE-STRUCTURED-LOCATION;VALUE=URI;X-ADDRESS=4190 Bad Leonfelden\, Öste
 rreich;X-APPLE-RADIUS=49;X-TITLE=:geo:48.511530,14.295230
URL;VALUE=URI:https://draft.hey.bayern/events/694946
END:VEVENT
END:VCALENDAR
