BEGIN:VCALENDAR
PRODID:-//eluceo/ical//2.0/EN
VERSION:2.0
CALSCALE:GREGORIAN
BEGIN:VEVENT
UID:hey.bayern.694932.6556902
DTSTAMP:20260423T065654Z
SUMMARY:Pfingst Bierzelt des TSV Unken
DTSTART;TZID=Europe/Berlin:20260523T190000
DTEND;TZID=Europe/Berlin:20260523T235959
LOCATION:Niederland 238\, 5091 Unken\, Österreich
URL;VALUE=URI:https://draft.hey.bayern/events/694932
END:VEVENT
END:VCALENDAR
