BEGIN:VCALENDAR
PRODID:-//eluceo/ical//2.0/EN
VERSION:2.0
CALSCALE:GREGORIAN
BEGIN:VEVENT
UID:hey.bayern.694931.6556901
DTSTAMP:20260423T033629Z
SUMMARY:Pferdeflohmarkt
DTSTART;TZID=Europe/Berlin:20260502T130000
DTEND;TZID=Europe/Berlin:20260502T235959
LOCATION:Austraße 27\, 5582 St. Michael im Lungau\, Österreich
GEO:47.090381;13.633531
X-APPLE-STRUCTURED-LOCATION;VALUE=URI;X-ADDRESS=Austraße 27\, 5582 St. Mic
 hael im Lungau\, Österreich;X-APPLE-RADIUS=49;X-TITLE=:geo:47.090381,13.6
 33531
URL;VALUE=URI:https://draft.hey.bayern/events/694931
END:VEVENT
END:VCALENDAR
