BEGIN:VCALENDAR
PRODID:-//eluceo/ical//2.0/EN
VERSION:2.0
CALSCALE:GREGORIAN
BEGIN:VEVENT
UID:hey.bayern.694910.6556733
DTSTAMP:20260423T054631Z
SUMMARY:Marathongottesdienst in der katholischen Pfarrkirche Hallstatt
DTSTART;TZID=Europe/Berlin:20260426T100000
DTEND;TZID=Europe/Berlin:20260426T235900
LOCATION:Kirchenweg 40\, 4830 Hallstatt\, Österreich
GEO:47.562627;13.646564
X-APPLE-STRUCTURED-LOCATION;VALUE=URI;X-ADDRESS=Kirchenweg 40\, 4830 Hallst
 att\, Österreich;X-APPLE-RADIUS=49;X-TITLE=:geo:47.562627,13.646564
URL;VALUE=URI:https://draft.hey.bayern/events/694910
END:VEVENT
END:VCALENDAR
