BEGIN:VCALENDAR
PRODID:-//eluceo/ical//2.0/EN
VERSION:2.0
CALSCALE:GREGORIAN
BEGIN:VEVENT
UID:hey.bayern.694885.6556615
DTSTAMP:20260423T105701Z
SUMMARY:Kidical Mass
DTSTART;TZID=Europe/Berlin:20260529T150000
DTEND;TZID=Europe/Berlin:20260529T180000
LOCATION:Hauptplatz\, 4240 Freistadt\, Österreich
GEO:48.511296;14.504757
X-APPLE-STRUCTURED-LOCATION;VALUE=URI;X-ADDRESS=Hauptplatz\, 4240 Freistadt
 \, Österreich;X-APPLE-RADIUS=49;X-TITLE=:geo:48.511296,14.504757
URL;VALUE=URI:https://draft.hey.bayern/events/694885
END:VEVENT
END:VCALENDAR
