BEGIN:VCALENDAR
PRODID:-//eluceo/ical//2.0/EN
VERSION:2.0
CALSCALE:GREGORIAN
BEGIN:VEVENT
UID:hey.bayern.694861.6556426
DTSTAMP:20260423T084740Z
SUMMARY:Genuss & Musik
DTSTART;TZID=Europe/Berlin:20260503T110000
DTEND;TZID=Europe/Berlin:20260503T235900
LOCATION:Grünau 27\, 4582 Spital am Pyhrn\, Österreich
GEO:47.651722;14.356749
X-APPLE-STRUCTURED-LOCATION;VALUE=URI;X-ADDRESS=Grünau 27\, 4582 Spital am
  Pyhrn\, Österreich;X-APPLE-RADIUS=49;X-TITLE=:geo:47.651722,14.356749
URL;VALUE=URI:https://draft.hey.bayern/events/694861
END:VEVENT
END:VCALENDAR
