BEGIN:VCALENDAR
PRODID:-//eluceo/ical//2.0/EN
VERSION:2.0
CALSCALE:GREGORIAN
BEGIN:VEVENT
UID:hey.bayern.694853.6556335
DTSTAMP:20260423T013104Z
SUMMARY:Fußball Spiel FC Kaprun vs. USV Stuhlfelden
DTSTART;TZID=Europe/Berlin:20260503T143000
DTEND;TZID=Europe/Berlin:20260503T193000
LOCATION:Boden\, 5710 Kaprun\, Österreich
GEO:47.266255;12.750225
X-APPLE-STRUCTURED-LOCATION;VALUE=URI;X-ADDRESS=Boden\, 5710 Kaprun\, Öste
 rreich;X-APPLE-RADIUS=49;X-TITLE=:geo:47.266255,12.750225
URL;VALUE=URI:https://draft.hey.bayern/events/694853
END:VEVENT
END:VCALENDAR
