BEGIN:VCALENDAR
PRODID:-//eluceo/ical//2.0/EN
VERSION:2.0
CALSCALE:GREGORIAN
BEGIN:VEVENT
UID:hey.bayern.694838.6556187
DTSTAMP:20260423T054634Z
SUMMARY:Die wunderbare Welt von Oz
DTSTART;TZID=Europe/Berlin:20260702T190000
DTEND;TZID=Europe/Berlin:20260702T235900
LOCATION:Wiener Straße 25\, 4020 Linz\, Österreich
GEO:48.291144;14.296951
X-APPLE-STRUCTURED-LOCATION;VALUE=URI;X-ADDRESS=Wiener Straße 25\, 4020 Li
 nz\, Österreich;X-APPLE-RADIUS=49;X-TITLE=:geo:48.291144,14.296951
URL;VALUE=URI:https://draft.hey.bayern/events/694838
END:VEVENT
END:VCALENDAR
