BEGIN:VCALENDAR
PRODID:-//eluceo/ical//2.0/EN
VERSION:2.0
CALSCALE:GREGORIAN
BEGIN:VEVENT
UID:hey.bayern.694793.6556040
DTSTAMP:20260422T024525Z
SUMMARY:lit! neue junge literatur
DTSTART;TZID=Europe/Berlin:20260625T180000
DTEND;TZID=Europe/Berlin:20260625T200000
LOCATION:Lederergasse 15\, 9500 Villach\, Österreich
GEO:46.623611;14.314059
X-APPLE-STRUCTURED-LOCATION;VALUE=URI;X-ADDRESS=Lederergasse 15\, 9500 Vill
 ach\, Österreich;X-APPLE-RADIUS=49;X-TITLE=:geo:46.623611,14.314059
URL;VALUE=URI:https://draft.hey.bayern/events/694793
END:VEVENT
END:VCALENDAR
