BEGIN:VCALENDAR
PRODID:-//eluceo/ical//2.0/EN
VERSION:2.0
CALSCALE:GREGORIAN
BEGIN:VEVENT
UID:hey.bayern.694791.6556034
DTSTAMP:20260422T113556Z
SUMMARY:Yogilates Flow
DTSTART;TZID=Europe/Berlin:20260914T173000
DTEND;TZID=Europe/Berlin:20260914T183000
LOCATION:Murgasse 13\, 5580 Tamsweg\, Österreich
GEO:47.126080;13.813434
X-APPLE-STRUCTURED-LOCATION;VALUE=URI;X-ADDRESS=Murgasse 13\, 5580 Tamsweg\
 , Österreich;X-APPLE-RADIUS=49;X-TITLE=:geo:47.126080,13.813434
URL;VALUE=URI:https://draft.hey.bayern/events/694791
END:VEVENT
END:VCALENDAR
