BEGIN:VCALENDAR
PRODID:-//eluceo/ical//2.0/EN
VERSION:2.0
CALSCALE:GREGORIAN
BEGIN:VEVENT
UID:hey.bayern.694790.6556023
DTSTAMP:20260422T113559Z
SUMMARY:Yin Yoga
DTSTART;TZID=Europe/Berlin:20260914T184500
DTEND;TZID=Europe/Berlin:20260914T194500
LOCATION:Murgasse 13\, 5580 Tamsweg\, Österreich
GEO:47.125959;13.813559
X-APPLE-STRUCTURED-LOCATION;VALUE=URI;X-ADDRESS=Murgasse 13\, 5580 Tamsweg\
 , Österreich;X-APPLE-RADIUS=49;X-TITLE=:geo:47.125959,13.813559
URL;VALUE=URI:https://draft.hey.bayern/events/694790
END:VEVENT
END:VCALENDAR
