BEGIN:VCALENDAR
PRODID:-//eluceo/ical//2.0/EN
VERSION:2.0
CALSCALE:GREGORIAN
BEGIN:VEVENT
UID:hey.bayern.694786.6555988
DTSTAMP:20260423T015802Z
SUMMARY:Wooden Structures - Die Zukunft auf dem Prüfstand
DTSTART;TZID=Europe/Berlin:20260714T120000
DTEND;TZID=Europe/Berlin:20260714T170000
LOCATION:Sinnhubstraße 3\, 5020 Salzburg\, Österreich
URL;VALUE=URI:https://draft.hey.bayern/events/694786
END:VEVENT
END:VCALENDAR
