BEGIN:VCALENDAR
PRODID:-//eluceo/ical//2.0/EN
VERSION:2.0
CALSCALE:GREGORIAN
BEGIN:VEVENT
UID:hey.bayern.694782.6555933
DTSTAMP:20260422T005824Z
SUMMARY:Was ist Wahrheit - MARKUS HINTERHÄUSER im Gespräch mit FLORIAN BO
 ESCH - Attergauer Kultursommer 2026
DTSTART;TZID=Europe/Berlin:20260711T190000
DTEND;TZID=Europe/Berlin:20260711T235900
LOCATION:Dr. Greil Straße 45\, 4880 St. Georgen im Attergau\, Österreich
GEO:47.932625;13.490590
X-APPLE-STRUCTURED-LOCATION;VALUE=URI;X-ADDRESS=Dr. Greil Straße 45\, 4880
  St. Georgen im Attergau\, Österreich;X-APPLE-RADIUS=49;X-TITLE=:geo:47.9
 32625,13.490590
URL;VALUE=URI:https://draft.hey.bayern/events/694782
END:VEVENT
END:VCALENDAR
