BEGIN:VCALENDAR
PRODID:-//eluceo/ical//2.0/EN
VERSION:2.0
CALSCALE:GREGORIAN
BEGIN:VEVENT
UID:hey.bayern.694779.6555843
DTSTAMP:20260422T010517Z
SUMMARY:Vortrag: Alltagsleben einst
DTSTART;TZID=Europe/Berlin:20260424T173000
DTEND;TZID=Europe/Berlin:20260424T235959
LOCATION:Südbahnstraße 100\, 8020 Graz\, Österreich
GEO:47.056757;15.416501
X-APPLE-STRUCTURED-LOCATION;VALUE=URI;X-ADDRESS=Südbahnstraße 100\, 8020 
 Graz\, Österreich;X-APPLE-RADIUS=49;X-TITLE=:geo:47.056757,15.416501
URL;VALUE=URI:https://draft.hey.bayern/events/694779
END:VEVENT
END:VCALENDAR
