BEGIN:VCALENDAR
PRODID:-//eluceo/ical//2.0/EN
VERSION:2.0
CALSCALE:GREGORIAN
BEGIN:VEVENT
UID:hey.bayern.694777.6555838
DTSTAMP:20260422T101703Z
SUMMARY:Vokal trifft Instrumental
DTSTART;TZID=Europe/Berlin:20260510T180000
DTEND;TZID=Europe/Berlin:20260510T230000
LOCATION:Museumsplatz 1\, 4662 Laakirchen\, Österreich
GEO:47.990948;13.796006
X-APPLE-STRUCTURED-LOCATION;VALUE=URI;X-ADDRESS=Museumsplatz 1\, 4662 Laaki
 rchen\, Österreich;X-APPLE-RADIUS=49;X-TITLE=:geo:47.990948,13.796006
URL;VALUE=URI:https://draft.hey.bayern/events/694777
END:VEVENT
END:VCALENDAR
