BEGIN:VCALENDAR
PRODID:-//eluceo/ical//2.0/EN
VERSION:2.0
CALSCALE:GREGORIAN
BEGIN:VEVENT
UID:hey.bayern.694751.6554725
DTSTAMP:20260422T113554Z
SUMMARY:Pilates
DTSTART;TZID=Europe/Berlin:20260916T183000
DTEND;TZID=Europe/Berlin:20260916T193000
LOCATION:Murgasse 13\, 5580 Tamsweg\, Österreich
GEO:47.126041;13.813798
X-APPLE-STRUCTURED-LOCATION;VALUE=URI;X-ADDRESS=Murgasse 13\, 5580 Tamsweg\
 , Österreich;X-APPLE-RADIUS=49;X-TITLE=:geo:47.126041,13.813798
URL;VALUE=URI:https://draft.hey.bayern/events/694751
END:VEVENT
END:VCALENDAR
