BEGIN:VCALENDAR
PRODID:-//eluceo/ical//2.0/EN
VERSION:2.0
CALSCALE:GREGORIAN
BEGIN:VEVENT
UID:hey.bayern.694744.6554699
DTSTAMP:20260422T113558Z
SUMMARY:Namasté am Prebersee
DTSTART;TZID=Europe/Berlin:20260725T083000
DTEND;TZID=Europe/Berlin:20260725T094500
LOCATION:Murgasse 13\, 5580 Tamsweg\, Österreich
URL;VALUE=URI:https://draft.hey.bayern/events/694744
END:VEVENT
END:VCALENDAR
