BEGIN:VCALENDAR
PRODID:-//eluceo/ical//2.0/EN
VERSION:2.0
CALSCALE:GREGORIAN
BEGIN:VEVENT
UID:hey.bayern.694739.6554689
DTSTAMP:20260422T004128Z
SUMMARY:Mantren singen am Wörthersee
DTSTART;TZID=Europe/Berlin:20260812T170000
DTEND;TZID=Europe/Berlin:20260813T170000
LOCATION:9201 Krumpendorf am Wörthersee\, Österreich
GEO:46.623186;14.222087
X-APPLE-STRUCTURED-LOCATION;VALUE=URI;X-ADDRESS=9201 Krumpendorf am Wörthe
 rsee\, Österreich;X-APPLE-RADIUS=49;X-TITLE=:geo:46.623186,14.222087
URL;VALUE=URI:https://draft.hey.bayern/events/694739
END:VEVENT
END:VCALENDAR
