BEGIN:VCALENDAR
PRODID:-//eluceo/ical//2.0/EN
VERSION:2.0
CALSCALE:GREGORIAN
BEGIN:VEVENT
UID:hey.bayern.694735.6554672
DTSTAMP:20260422T053548Z
SUMMARY:Luaga\, Losna und Stuna: Schausägen Latschau
DTSTART;TZID=Europe/Berlin:20260626T133000
DTEND;TZID=Europe/Berlin:20260627T133000
LOCATION:Gafazutweg 2\, 6774 Tschagguns\, Österreich
URL;VALUE=URI:https://draft.hey.bayern/events/694735
END:VEVENT
END:VCALENDAR
