BEGIN:VCALENDAR
PRODID:-//eluceo/ical//2.0/EN
VERSION:2.0
CALSCALE:GREGORIAN
BEGIN:VEVENT
UID:hey.bayern.694721.6554599
DTSTAMP:20260422T015901Z
SUMMARY:Konzert der Wälder Chorgemeinschaft Egg – "usom Leaba"
DTSTART;TZID=Europe/Berlin:20260524T180000
DTEND;TZID=Europe/Berlin:20260524T200000
LOCATION:Hof 765\, 6867 Schwarzenberg\, Österreich
GEO:47.413290;9.854930
X-APPLE-STRUCTURED-LOCATION;VALUE=URI;X-ADDRESS=Hof 765\, 6867 Schwarzenber
 g\, Österreich;X-APPLE-RADIUS=49;X-TITLE=:geo:47.413290,9.854930
URL;VALUE=URI:https://draft.hey.bayern/events/694721
END:VEVENT
END:VCALENDAR
