BEGIN:VCALENDAR
PRODID:-//eluceo/ical//2.0/EN
VERSION:2.0
CALSCALE:GREGORIAN
BEGIN:VEVENT
UID:hey.bayern.694696.6554556
DTSTAMP:20260423T015807Z
SUMMARY:Infoabend zum geplanten grenznahen Atommüllendlager in Tschechien
DTSTART;TZID=Europe/Berlin:20260520T193000
DTEND;TZID=Europe/Berlin:20260520T220000
LOCATION:Kerschbaum 61\, 4261 Rainbach im Mühlkreis\, Österreich
GEO:48.557641;14.476460
X-APPLE-STRUCTURED-LOCATION;VALUE=URI;X-ADDRESS=Kerschbaum 61\, 4261 Rainba
 ch im Mühlkreis\, Österreich;X-APPLE-RADIUS=49;X-TITLE=:geo:48.557641,14
 .476460
URL;VALUE=URI:https://draft.hey.bayern/events/694696
END:VEVENT
END:VCALENDAR
