BEGIN:VCALENDAR
PRODID:-//eluceo/ical//2.0/EN
VERSION:2.0
CALSCALE:GREGORIAN
BEGIN:VEVENT
UID:hey.bayern.694677.6554278
DTSTAMP:20260422T215827Z
SUMMARY:Frühling überall
DTSTART;TZID=Europe/Berlin:20260505T183000
DTEND;TZID=Europe/Berlin:20260505T193000
LOCATION:Hauptplatz 19 - linker Eingang\, 4190 Bad Leonfelden\, Österreich
GEO:48.521778;14.294994
X-APPLE-STRUCTURED-LOCATION;VALUE=URI;X-ADDRESS=Hauptplatz 19 - linker Eing
 ang\, 4190 Bad Leonfelden\, Österreich;X-APPLE-RADIUS=49;X-TITLE=:geo:48.
 521778,14.294994
URL;VALUE=URI:https://draft.hey.bayern/events/694677
END:VEVENT
END:VCALENDAR
