BEGIN:VCALENDAR
PRODID:-//eluceo/ical//2.0/EN
VERSION:2.0
CALSCALE:GREGORIAN
BEGIN:VEVENT
UID:hey.bayern.694676.6554257
DTSTAMP:20260422T113600Z
SUMMARY:Flow & Hartha Yoga
DTSTART;TZID=Europe/Berlin:20260723T183000
DTEND;TZID=Europe/Berlin:20260723T193000
LOCATION:Murgasse 13\, 5580 Tamsweg\, Österreich
GEO:47.124426;13.808082
X-APPLE-STRUCTURED-LOCATION;VALUE=URI;X-ADDRESS=Murgasse 13\, 5580 Tamsweg\
 , Österreich;X-APPLE-RADIUS=49;X-TITLE=:geo:47.124426,13.808082
URL;VALUE=URI:https://draft.hey.bayern/events/694676
END:VEVENT
END:VCALENDAR
