BEGIN:VCALENDAR
PRODID:-//eluceo/ical//2.0/EN
VERSION:2.0
CALSCALE:GREGORIAN
BEGIN:VEVENT
UID:hey.bayern.694675.6554252
DTSTAMP:20260423T105703Z
SUMMARY:Fiori Musicali 2026
DTSTART;TZID=Europe/Berlin:20260609T190000
DTEND;TZID=Europe/Berlin:20260609T210000
LOCATION:Stiftstraße 1\, 4490 St. Florian\, Österreich
GEO:48.207787;14.379016
X-APPLE-STRUCTURED-LOCATION;VALUE=URI;X-ADDRESS=Stiftstraße 1\, 4490 St. F
 lorian\, Österreich;X-APPLE-RADIUS=49;X-TITLE=:geo:48.207787,14.379016
URL;VALUE=URI:https://draft.hey.bayern/events/694675
END:VEVENT
END:VCALENDAR
