BEGIN:VCALENDAR
PRODID:-//eluceo/ical//2.0/EN
VERSION:2.0
CALSCALE:GREGORIAN
BEGIN:VEVENT
UID:hey.bayern.694648.6553971
DTSTAMP:20260423T065654Z
SUMMARY:47 Jahre Kunst & Kultur Raab - TRINITAS - musikalische Dreieinigkei
 t – In Kooperation mit INNtöne Barock
DTSTART;TZID=Europe/Berlin:20260501T193000
DTEND;TZID=Europe/Berlin:20260501T220000
LOCATION:Bründl 1\, 4760 Raab\, Österreich
GEO:48.357297;13.644582
X-APPLE-STRUCTURED-LOCATION;VALUE=URI;X-ADDRESS=Bründl 1\, 4760 Raab\, Ös
 terreich;X-APPLE-RADIUS=49;X-TITLE=:geo:48.357297,13.644582
URL;VALUE=URI:https://draft.hey.bayern/events/694648
END:VEVENT
END:VCALENDAR
