BEGIN:VCALENDAR
PRODID:-//eluceo/ical//2.0/EN
VERSION:2.0
CALSCALE:GREGORIAN
BEGIN:VEVENT
UID:hey.bayern.694640.6553940
DTSTAMP:20260421T202036Z
SUMMARY:Vortrag: Kirche | Friedhof | Geschichte | Aufstand
DTSTART;TZID=Europe/Berlin:20260503T143000
DTEND;TZID=Europe/Berlin:20260503T235900
LOCATION:Attergaustraße 20\, 4880 St. Georgen im Attergau\, Österreich
GEO:47.933592;13.491307
X-APPLE-STRUCTURED-LOCATION;VALUE=URI;X-ADDRESS=Attergaustraße 20\, 4880 S
 t. Georgen im Attergau\, Österreich;X-APPLE-RADIUS=49;X-TITLE=:geo:47.933
 592,13.491307
URL;VALUE=URI:https://draft.hey.bayern/events/694640
END:VEVENT
END:VCALENDAR
