BEGIN:VCALENDAR
PRODID:-//eluceo/ical//2.0/EN
VERSION:2.0
CALSCALE:GREGORIAN
BEGIN:VEVENT
UID:hey.bayern.694613.6553663
DTSTAMP:20260422T024526Z
SUMMARY:Art & Wine Session by Atelier Athena
DTSTART;TZID=Europe/Berlin:20260507T180000
DTEND;TZID=Europe/Berlin:20260507T235900
LOCATION:Stadtplatz 39\, 1.Stock\, 4600 Wels\, Österreich
GEO:48.157248;14.025457
X-APPLE-STRUCTURED-LOCATION;VALUE=URI;X-ADDRESS=Stadtplatz 39\, 1.Stock\, 4
 600 Wels\, Österreich;X-APPLE-RADIUS=49;X-TITLE=:geo:48.157248,14.025457
URL;VALUE=URI:https://draft.hey.bayern/events/694613
END:VEVENT
END:VCALENDAR
