BEGIN:VCALENDAR
PRODID:-//eluceo/ical//2.0/EN
VERSION:2.0
CALSCALE:GREGORIAN
BEGIN:VEVENT
UID:hey.bayern.694610.6553486
DTSTAMP:20260420T034630Z
SUMMARY:Zumba Fitness mit Julia Haun
DTSTART;TZID=Europe/Berlin:20260520T190000
DTEND;TZID=Europe/Berlin:20260520T200000
LOCATION:6314 Wildschönau\, Österreich
URL;VALUE=URI:https://draft.hey.bayern/events/694610
END:VEVENT
END:VCALENDAR
