BEGIN:VCALENDAR
PRODID:-//eluceo/ical//2.0/EN
VERSION:2.0
CALSCALE:GREGORIAN
BEGIN:VEVENT
UID:hey.bayern.694597.6553355
DTSTAMP:20260420T173035Z
SUMMARY:Platzkonzert in Wörgl
DTSTART;TZID=Europe/Berlin:20260717T190000
DTEND;TZID=Europe/Berlin:20260717T235900
LOCATION:6300 Wörgl\, Österreich
GEO:47.488140;12.061470
X-APPLE-STRUCTURED-LOCATION;VALUE=URI;X-ADDRESS=6300 Wörgl\, Österreich;X
 -APPLE-RADIUS=49;X-TITLE=:geo:47.488140,12.061470
URL;VALUE=URI:https://draft.hey.bayern/events/694597
END:VEVENT
END:VCALENDAR
