BEGIN:VCALENDAR
PRODID:-//eluceo/ical//2.0/EN
VERSION:2.0
CALSCALE:GREGORIAN
BEGIN:VEVENT
UID:hey.bayern.694568.6553038
DTSTAMP:20260420T040321Z
SUMMARY:Miederer Musik Mittwoch - Musik im Gasthaus
DTSTART;TZID=Europe/Berlin:20260812T200000
DTEND;TZID=Europe/Berlin:20260812T235900
LOCATION:6142 Mieders\, Österreich
GEO:47.169910;11.381210
X-APPLE-STRUCTURED-LOCATION;VALUE=URI;X-ADDRESS=6142 Mieders\, Österreich;
 X-APPLE-RADIUS=49;X-TITLE=:geo:47.169910,11.381210
URL;VALUE=URI:https://draft.hey.bayern/events/694568
END:VEVENT
END:VCALENDAR
