BEGIN:VCALENDAR
PRODID:-//eluceo/ical//2.0/EN
VERSION:2.0
CALSCALE:GREGORIAN
BEGIN:VEVENT
UID:hey.bayern.694535.6552711
DTSTAMP:20260420T034629Z
SUMMARY:stove surfing im ZOMM
DTSTART;TZID=Europe/Berlin:20260423T180000
DTEND;TZID=Europe/Berlin:20260423T235900
LOCATION:6100 Seefeld in Tirol\, Österreich
GEO:47.330090;11.181540
X-APPLE-STRUCTURED-LOCATION;VALUE=URI;X-ADDRESS=6100 Seefeld in Tirol\, Ös
 terreich;X-APPLE-RADIUS=49;X-TITLE=:geo:47.330090,11.181540
URL;VALUE=URI:https://draft.hey.bayern/events/694535
END:VEVENT
END:VCALENDAR
