BEGIN:VCALENDAR
PRODID:-//eluceo/ical//2.0/EN
VERSION:2.0
CALSCALE:GREGORIAN
BEGIN:VEVENT
UID:hey.bayern.694527.6552611
DTSTAMP:20260420T072214Z
SUMMARY:Weihnachtskonzert
DTSTART;TZID=Europe/Berlin:20261226T160000
DTEND;TZID=Europe/Berlin:20261226T235900
LOCATION:6213 Eben am Achensee\, Österreich
GEO:47.440010;11.696390
X-APPLE-STRUCTURED-LOCATION;VALUE=URI;X-ADDRESS=6213 Eben am Achensee\, Ös
 terreich;X-APPLE-RADIUS=49;X-TITLE=:geo:47.440010,11.696390
URL;VALUE=URI:https://draft.hey.bayern/events/694527
END:VEVENT
END:VCALENDAR
