BEGIN:VCALENDAR
PRODID:-//eluceo/ical//2.0/EN
VERSION:2.0
CALSCALE:GREGORIAN
BEGIN:VEVENT
UID:hey.bayern.694522.6552597
DTSTAMP:20260419T205702Z
SUMMARY:Volleyball Heimspiel
DTSTART;TZID=Europe/Berlin:20260419T150000
DTEND;TZID=Europe/Berlin:20260419T235900
LOCATION:6380 St. Johann in Tirol\, Österreich
URL;VALUE=URI:https://draft.hey.bayern/events/694522
END:VEVENT
END:VCALENDAR
