BEGIN:VCALENDAR
PRODID:-//eluceo/ical//2.0/EN
VERSION:2.0
CALSCALE:GREGORIAN
BEGIN:VEVENT
UID:hey.bayern.694517.6552562
DTSTAMP:20260419T190120Z
SUMMARY:Tag der offenen Tür der Kameradschaftskapelle
DTSTART;TZID=Europe/Berlin:20260425T150000
DTEND;TZID=Europe/Berlin:20260425T180000
LOCATION:Schulstrasse 6\, 5630 Bad Hofgastein\, Österreich
URL;VALUE=URI:https://draft.hey.bayern/events/694517
END:VEVENT
END:VCALENDAR
