BEGIN:VCALENDAR
PRODID:-//eluceo/ical//2.0/EN
VERSION:2.0
CALSCALE:GREGORIAN
BEGIN:VEVENT
UID:hey.bayern.694506.6552429
DTSTAMP:20260420T034634Z
SUMMARY:Seekonzert mit der TMK Mattsee
DTSTART;TZID=Europe/Berlin:20260722T200000
DTEND;TZID=Europe/Berlin:20260722T213000
LOCATION:Seepromenade\, 6553 See\, Österreich
URL;VALUE=URI:https://draft.hey.bayern/events/694506
END:VEVENT
END:VCALENDAR
