BEGIN:VCALENDAR
PRODID:-//eluceo/ical//2.0/EN
VERSION:2.0
CALSCALE:GREGORIAN
BEGIN:VEVENT
UID:hey.bayern.694503.6552367
DTSTAMP:20260420T034527Z
SUMMARY:Sacher Muttertagsbrunch
DTSTART;TZID=Europe/Berlin:20260510T100000
DTEND;TZID=Europe/Berlin:20260510T130000
LOCATION:6100 Seefeld in Tirol\, Österreich
GEO:47.335440;11.187270
X-APPLE-STRUCTURED-LOCATION;VALUE=URI;X-ADDRESS=6100 Seefeld in Tirol\, Ös
 terreich;X-APPLE-RADIUS=49;X-TITLE=:geo:47.335440,11.187270
URL;VALUE=URI:https://draft.hey.bayern/events/694503
END:VEVENT
END:VCALENDAR
