BEGIN:VCALENDAR
PRODID:-//eluceo/ical//2.0/EN
VERSION:2.0
CALSCALE:GREGORIAN
BEGIN:VEVENT
UID:hey.bayern.694501.6552212
DTSTAMP:20260421T214745Z
SUMMARY:Rumble & Ride Friday Night Cruising
DTSTART;TZID=Europe/Berlin:20260509T180000
DTEND;TZID=Europe/Berlin:20260509T221500
LOCATION:Zipf 22\, 4871 Neukirchen an der Vöckla\, Österreich
GEO:48.036455;13.503640
X-APPLE-STRUCTURED-LOCATION;VALUE=URI;X-ADDRESS=Zipf 22\, 4871 Neukirchen a
 n der Vöckla\, Österreich;X-APPLE-RADIUS=49;X-TITLE=:geo:48.036455,13.50
 3640
URL;VALUE=URI:https://draft.hey.bayern/events/694501
END:VEVENT
END:VCALENDAR
