BEGIN:VCALENDAR
PRODID:-//eluceo/ical//2.0/EN
VERSION:2.0
CALSCALE:GREGORIAN
BEGIN:VEVENT
UID:hey.bayern.694466.6552032
DTSTAMP:20260421T055126Z
SUMMARY:Kulturführung | Denkmäler und Erinnerungsorte
DTSTART;TZID=Europe/Berlin:20261010T170000
DTEND;TZID=Europe/Berlin:20261011T170000
LOCATION:Seeanlagen\, 6900 Bregenz\, Österreich
GEO:47.505483;9.745860
X-APPLE-STRUCTURED-LOCATION;VALUE=URI;X-ADDRESS=Seeanlagen\, 6900 Bregenz\,
  Österreich;X-APPLE-RADIUS=49;X-TITLE=:geo:47.505483,9.745860
URL;VALUE=URI:https://draft.hey.bayern/events/694466
END:VEVENT
END:VCALENDAR
